BEGIN:VCALENDAR
VERSION:2.0
PRODID:-//Salem Ancestry - ECPv6.2.6.1//NONSGML v1.0//EN
CALSCALE:GREGORIAN
METHOD:PUBLISH
X-WR-CALNAME:Salem Ancestry
X-ORIGINAL-URL:https://salemancestry.org
X-WR-CALDESC:Events for Salem Ancestry
REFRESH-INTERVAL;VALUE=DURATION:PT1H
X-Robots-Tag:noindex
X-PUBLISHED-TTL:PT1H
BEGIN:VTIMEZONE
TZID:America/New_York
BEGIN:DAYLIGHT
TZOFFSETFROM:-0500
TZOFFSETTO:-0400
TZNAME:EDT
DTSTART:20240310T070000
END:DAYLIGHT
BEGIN:STANDARD
TZOFFSETFROM:-0400
TZOFFSETTO:-0500
TZNAME:EST
DTSTART:20241103T060000
END:STANDARD
END:VTIMEZONE
BEGIN:VEVENT
DTSTART;TZID=America/New_York:20240808T130000
DTEND;TZID=America/New_York:20240808T140000
DTSTAMP:20260421T083343
CREATED:20240709T141306Z
LAST-MODIFIED:20240709T141306Z
UID:10000141-1723122000-1723125600@salemancestry.org
SUMMARY:Cotton Mather and the Salem Witch Trials: Separating Fact from Fiction
DESCRIPTION:Boston’s Reverend Cotton Mather has often been portrayed as an instigator of the Salem trials and a witch hunter. But what exactly was his role in 1692\, and why has he been such a polarizing figure? Join us for a virtual roundtable discussion with Salem witch trials historian Marilynne Roach\, Rachel Christ-Doane (Director of Education at the Salem Witch Museum)\, and Tricia Peone (Project Director of New England’s Hidden Histories at the Congregational Library & Archives). This discussion will focus on Cotton Mather’s writings about witchcraft\, misconceptions about his role in the Salem witch trials\, and his legacy today.
URL:https://salemancestry.org/event/cotton-mather-and-the-salem-witch-trials-separating-fact-from-fiction/
LOCATION:Virtual Event
CATEGORIES:Education & Spiritual Growth,History
ATTACH;FMTTYPE=image/jpeg:https://salemancestry.org/wp-content/uploads/2024/07/CMSWTCarousel-002.jpg
END:VEVENT
BEGIN:VEVENT
DTSTART;TZID=America/New_York:20240809T100000
DTEND;TZID=America/New_York:20240809T103000
DTSTAMP:20260421T083343
CREATED:20240801T171247Z
LAST-MODIFIED:20240801T171247Z
UID:10000144-1723197600-1723199400@salemancestry.org
SUMMARY:Ponkapoag Blessing
DESCRIPTION:Thomas (Spirit Tree) Green\, an enrolled member of the Massachusetts Tribe at Ponkapoag will be performing a spiritual cleansing and cultural blessing in honor of the Pawtucket Bloodline Sachemship of Nanepashemet at the seat of his son Wenepoiken on August 9th 2024.
URL:https://salemancestry.org/event/ponkapoag-blessing/
LOCATION:Furlong Park\, Franklin Street\, Salem\, MA\, 01970\, United States
CATEGORIES:Community,Culture,Education & Spiritual Growth,Outdoors,History
ATTACH;FMTTYPE=image/jpeg:https://salemancestry.org/wp-content/uploads/2024/02/SalemAncestry-logo-RGB-uujAKN.tmp_.jpg
END:VEVENT
BEGIN:VEVENT
DTSTART;TZID=America/New_York:20240809T100000
DTEND;TZID=America/New_York:20240809T160000
DTSTAMP:20260421T083343
CREATED:20240731T200222Z
LAST-MODIFIED:20240801T181329Z
UID:10000142-1723197600-1723219200@salemancestry.org
SUMMARY:Salem Ancestry Days Exhibitor Fair
DESCRIPTION:Please join us in learning how to get started with your gemology journey with our robust selection of exhibitors. Chat with genealogists about Salem’s specific genealogical history and how you connect. \n  \nOur Exhibitors Include:  \nAmerican Ancestors by New England Historic Genealogical Society \nCol. Timothy Pickering Chapter\, NSDAR \nThe Church of Jesus Christ of Latter Day Saints \nEssex Society of Genealogy \nSalem Historical Society \nFriends of Broad Street Cemetery
URL:https://salemancestry.org/event/salem-ancestry-days-exhibitor-fair-2/2024-08-09/
LOCATION:Salem Armory Visitor Center\, 2 New Liberty St\, Salem\, MA\, 01970\, United States
CATEGORIES:Community,Culture,Education & Spiritual Growth,History,Family,Salem Ancestry
ATTACH;FMTTYPE=image/jpeg:https://salemancestry.org/wp-content/uploads/2024/02/SalemAncestry-logo-RGB-uujAKN.tmp_.jpg
END:VEVENT
BEGIN:VEVENT
DTSTART;TZID=America/New_York:20240809T110000
DTEND;TZID=America/New_York:20240809T123000
DTSTAMP:20260421T083343
CREATED:20240802T144607Z
LAST-MODIFIED:20240802T144607Z
UID:10000145-1723201200-1723206600@salemancestry.org
SUMMARY:Salem Witch Trials: Ancestors & Descendants Tour
DESCRIPTION:Salem will be 400 years old in 2026. It is rich in history\, including a critical role in the American Revolution and being the richest seaport per capita from 1790 to 1812. And then there is the 1692 Witch Trials. There were 156 official complaints and maybe 200 accused\, along with 70 afflicted persons\, nine judges\, dozens of jurors and hundreds who observed the trials. Calculations estimate that there could be more than 50 million descendants from the event. Many of them know but many don’t. Most have never been in the public eye. However\, many are famous and some are infamous. You’ll be surprised. \nThis tour will bring you throughout the downtown area of old Salem Towne\, discussing key people involved in the 1692 Witchcraft Trials and their descendants. Perhaps you are one of them.
URL:https://salemancestry.org/event/salem-witch-trials-ancestors-descendants-tour-5/2024-08-09/
LOCATION:Downtown Salem\, Essex Street\, Salem\, MA\, 01970\, United States
CATEGORIES:Culture,Outdoors,History
ATTACH;FMTTYPE=image/jpeg:https://salemancestry.org/wp-content/uploads/2024/08/unnamed.jpg
END:VEVENT
BEGIN:VEVENT
DTSTART;TZID=America/New_York:20240810T100000
DTEND;TZID=America/New_York:20240810T160000
DTSTAMP:20260421T083343
CREATED:20240731T200222Z
LAST-MODIFIED:20240801T181329Z
UID:10000143-1723284000-1723305600@salemancestry.org
SUMMARY:Salem Ancestry Days Exhibitor Fair
DESCRIPTION:Please join us in learning how to get started with your gemology journey with our robust selection of exhibitors. Chat with genealogists about Salem’s specific genealogical history and how you connect. \n  \nOur Exhibitors Include:  \nAmerican Ancestors by New England Historic Genealogical Society \nCol. Timothy Pickering Chapter\, NSDAR \nThe Church of Jesus Christ of Latter Day Saints \nEssex Society of Genealogy \nSalem Historical Society \nFriends of Broad Street Cemetery
URL:https://salemancestry.org/event/salem-ancestry-days-exhibitor-fair-2/2024-08-10/
LOCATION:Salem Armory Visitor Center\, 2 New Liberty St\, Salem\, MA\, 01970\, United States
CATEGORIES:Community,Culture,Education & Spiritual Growth,History,Family,Salem Ancestry
ATTACH;FMTTYPE=image/jpeg:https://salemancestry.org/wp-content/uploads/2024/02/SalemAncestry-logo-RGB-uujAKN.tmp_.jpg
END:VEVENT
BEGIN:VEVENT
DTSTART;TZID=America/New_York:20240810T110000
DTEND;TZID=America/New_York:20240810T123000
DTSTAMP:20260421T083343
CREATED:20240802T144607Z
LAST-MODIFIED:20240802T144607Z
UID:10000146-1723287600-1723293000@salemancestry.org
SUMMARY:Salem Witch Trials: Ancestors & Descendants Tour
DESCRIPTION:Salem will be 400 years old in 2026. It is rich in history\, including a critical role in the American Revolution and being the richest seaport per capita from 1790 to 1812. And then there is the 1692 Witch Trials. There were 156 official complaints and maybe 200 accused\, along with 70 afflicted persons\, nine judges\, dozens of jurors and hundreds who observed the trials. Calculations estimate that there could be more than 50 million descendants from the event. Many of them know but many don’t. Most have never been in the public eye. However\, many are famous and some are infamous. You’ll be surprised. \nThis tour will bring you throughout the downtown area of old Salem Towne\, discussing key people involved in the 1692 Witchcraft Trials and their descendants. Perhaps you are one of them.
URL:https://salemancestry.org/event/salem-witch-trials-ancestors-descendants-tour-5/2024-08-10/
LOCATION:Downtown Salem\, Essex Street\, Salem\, MA\, 01970\, United States
CATEGORIES:Culture,Outdoors,History
ATTACH;FMTTYPE=image/jpeg:https://salemancestry.org/wp-content/uploads/2024/08/unnamed.jpg
END:VEVENT
BEGIN:VEVENT
DTSTART;TZID=America/New_York:20240810T120000
DTEND;TZID=America/New_York:20240810T130000
DTSTAMP:20260421T083343
CREATED:20240802T184953Z
LAST-MODIFIED:20240802T184953Z
UID:10000147-1723291200-1723294800@salemancestry.org
SUMMARY:Family Search-Connecting Families Past and Present
DESCRIPTION:Family search provides family history experiences designed just for you. Come learn how this FREE website connects families past and present in a whole new way. Fun activities\, researching\, recording our own story including your heritage stories can be uploaded to this large and living family tree!\n\nPresentation by the Church of Jesus Christ of Latter-Day Saints
URL:https://salemancestry.org/event/family-search-connecting-families-past-and-present/
LOCATION:Salem Armory Visitor Center\, 2 New Liberty St\, Salem\, MA\, 01970\, United States
CATEGORIES:Culture,History
ATTACH;FMTTYPE=image/jpeg:https://salemancestry.org/wp-content/uploads/2024/02/SalemAncestry-logo-RGB-uujAKN.tmp_.jpg
END:VEVENT
END:VCALENDAR